BEGIN:VCALENDAR
VERSION:2.0
PRODID:-//Caddo Council on Aging - ECPv6.15.20//NONSGML v1.0//EN
CALSCALE:GREGORIAN
METHOD:PUBLISH
X-WR-CALNAME:Caddo Council on Aging
X-ORIGINAL-URL:https://caddocoa.org
X-WR-CALDESC:Events for Caddo Council on Aging
REFRESH-INTERVAL;VALUE=DURATION:PT1H
X-Robots-Tag:noindex
X-PUBLISHED-TTL:PT1H
BEGIN:VTIMEZONE
TZID:America/Chicago
BEGIN:DAYLIGHT
TZOFFSETFROM:-0600
TZOFFSETTO:-0500
TZNAME:CDT
DTSTART:20230312T080000
END:DAYLIGHT
BEGIN:STANDARD
TZOFFSETFROM:-0500
TZOFFSETTO:-0600
TZNAME:CST
DTSTART:20231105T070000
END:STANDARD
BEGIN:DAYLIGHT
TZOFFSETFROM:-0600
TZOFFSETTO:-0500
TZNAME:CDT
DTSTART:20240310T080000
END:DAYLIGHT
BEGIN:STANDARD
TZOFFSETFROM:-0500
TZOFFSETTO:-0600
TZNAME:CST
DTSTART:20241103T070000
END:STANDARD
BEGIN:DAYLIGHT
TZOFFSETFROM:-0600
TZOFFSETTO:-0500
TZNAME:CDT
DTSTART:20250309T080000
END:DAYLIGHT
BEGIN:STANDARD
TZOFFSETFROM:-0500
TZOFFSETTO:-0600
TZNAME:CST
DTSTART:20251102T070000
END:STANDARD
BEGIN:DAYLIGHT
TZOFFSETFROM:-0600
TZOFFSETTO:-0500
TZNAME:CDT
DTSTART:20260308T080000
END:DAYLIGHT
BEGIN:STANDARD
TZOFFSETFROM:-0500
TZOFFSETTO:-0600
TZNAME:CST
DTSTART:20261101T070000
END:STANDARD
BEGIN:DAYLIGHT
TZOFFSETFROM:-0600
TZOFFSETTO:-0500
TZNAME:CDT
DTSTART:20270314T080000
END:DAYLIGHT
BEGIN:STANDARD
TZOFFSETFROM:-0500
TZOFFSETTO:-0600
TZNAME:CST
DTSTART:20271107T070000
END:STANDARD
END:VTIMEZONE
BEGIN:VEVENT
DTSTART;TZID=America/Chicago:20260331T090000
DTEND;TZID=America/Chicago:20260331T110000
DTSTAMP:20260419T120606
CREATED:20240809T155134Z
LAST-MODIFIED:20260226T215902Z
UID:1465-1774947600-1774954800@caddocoa.org
SUMMARY:Balance Matters
DESCRIPTION:IF YOU ARE 60+ COME JOIN US!\nSt. Mark’s Cathedral Church\, Room 110 (Garden Room)\n908 Rutherford Street\nShreveport\, LA 71104\nCall Monica Wright at (318) 676-7900 to reserve your seat. \nCome to one class or all classes.\nAll class times are 9 am – 11:00 am \nMarch 24\, 2026\nMarch 31\, 2026\nApril 7\, 2026\nApril 14\, 2026 \nPlease come 15 minutes early to register for class.\nAs we age\, the risk of falls increases. It is important to learn preventive measures.\nThe workshop provides valuable information:\n1. How to safely increase your activity\n2. How to improve your ability to move\n3. What factors cause a decline in balance \nThe classes are free and taught by Mare Morgan\, PT\, PhD and Suzanne Tinsley\, PT\, PhD \n 
URL:https://caddocoa.org/event/balance-matters-7/
END:VEVENT
BEGIN:VEVENT
DTSTART;TZID=America/Chicago:20260324T090000
DTEND;TZID=America/Chicago:20260324T110000
DTSTAMP:20260419T120606
CREATED:20240809T155348Z
LAST-MODIFIED:20260226T215744Z
UID:1468-1774342800-1774350000@caddocoa.org
SUMMARY:Balance Matters
DESCRIPTION:IF YOU ARE 60+ COME JOIN US!\nSt. Mark’s Cathedral Church\, Room 110 (Garden Room)\n908 Rutherford Street\nShreveport\, LA 71104\nCall Monica Wright at (318) 676-7900 to reserve your seat. \nCome to one class or all classes.\nAll class times are 9 am – 11:00 am \nMarch 24\, 2026\nMarch 31\, 2026\nApril 7\, 2026\nApril 14\, 2026 \nPlease come 15 minutes early to register for class.\nAs we age\, the risk of falls increases. It is important to learn preventive measures.\nThe workshop provides valuable information:\n1. How to safely increase your activity\n2. How to improve your ability to move\n3. What factors cause a decline in balance \nThe classes are free and taught by Mare Morgan\, PT\, PhD and Suzanne Tinsley\, PT\, PhD \n 
URL:https://caddocoa.org/event/balance-matters-8/
END:VEVENT
BEGIN:VEVENT
DTSTART;TZID=America/Chicago:20260321T103000
DTEND;TZID=America/Chicago:20260321T130000
DTSTAMP:20260419T120606
CREATED:20230118T163828Z
LAST-MODIFIED:20251029T204656Z
UID:820-1774089000-1774098000@caddocoa.org
SUMMARY:Brunch & Bingo
DESCRIPTION:Family Friendly Fundraiser for Meals on Wheels\nTable for eight $500\nTickets $50\n(Includes brunch\, one bingo card\, & door prize ticket)\nGreat Bingo Prizes & Raffle Items\nAdditional Bingo Cards $5 | Blackout Bingo Game $10 \nWAYS YOU CAN HELP!\n1. Become a Sponsor\n2. Donate a gift card or items for raffle or door prizes\n3. Attend the event: buy individual tickets or a table of eight for family and friends\n4. Make a donation to our Meals on Wheels program \nSponsor Levels & Perks \nEvent Sponsor – $5\,000\nTwo tables for eight to the event\nHonorable mention at the event\nName or logo included on all advertisements (news& social media\, printed material & signage)\nTable signage \nPlatinum Sponsor – $2\,000\nOne table for eight to the event\nName or logo included on group social media posts & signage\nTable signage \nGold Sponsor – $1\,000\nFour tickets to the event\nName or logo included on group social media posts & signage \nCall Monica Wright at (318)676-7900 for more information \nMARCH 2\, 2026\, IS THE LAST DAY TO PURCHASE TICKETS \nClick Here to purchase tickets\, tables\, or to make a donation  \nClick here to become a Sponsor
URL:https://caddocoa.org/event/brunch-bingo/
LOCATION:Horseshoe Casino\, 711 Horseshoe Blvd\, Bossier City\, LA\, 71111\, United States
ATTACH;FMTTYPE=image/jpeg:https://caddocoa.org/wp-content/uploads/2023/01/CCOA-Brunch-and-Bingo_2026-FBCover-1-scaled.jpg
END:VEVENT
BEGIN:VEVENT
DTSTART;TZID=America/Chicago:20260126T120000
DTEND;TZID=America/Chicago:20260126T130000
DTSTAMP:20260419T120606
CREATED:20250116T224408Z
LAST-MODIFIED:20250909T142934Z
UID:1504-1769428800-1769432400@caddocoa.org
SUMMARY:Caddo Council on Aging Annual Meeting
DESCRIPTION:The public is invited to the Caddo Council on Aging\nAnnual Meeting\nMonday\, January 26\, 2026\n12:00 pm\nat\nSt. Mark’s Cathedral Church\nRoom 110\n908 Rutherford Street\nShreveport\, LA 71104
URL:https://caddocoa.org/event/caddo-council-on-aging-annual-meeting/
END:VEVENT
BEGIN:VEVENT
DTSTART;TZID=America/Chicago:20240812T090000
DTEND;TZID=America/Chicago:20240912T120000
DTSTAMP:20260419T120606
CREATED:20240809T160626Z
LAST-MODIFIED:20240809T160626Z
UID:1472-1723453200-1726142400@caddocoa.org
SUMMARY:Caddo Council on Aging Fan Distribution
DESCRIPTION:FAN DISTRIBUTION  \nCaddo Council on Aging provides fans to individuals aged 60 or older who do not have working or adequate air conditioners and reside in Caddo Parish. Fans are distributed Monday through Thursday\, 9 a.m. to 12 p.m.\, at 1700 Buckner Street\, Suite 240\, Shreveport\, LA 71101. Please call (318)676-7900 for more information.
URL:https://caddocoa.org/event/caddo-council-on-aging-fan-distribution/
END:VEVENT
BEGIN:VEVENT
DTSTART;TZID=America/Chicago:20240523T093000
DTEND;TZID=America/Chicago:20240523T113000
DTSTAMP:20260419T120606
CREATED:20240420T174410Z
LAST-MODIFIED:20240420T174410Z
UID:1434-1716456600-1716463800@caddocoa.org
SUMMARY:Balance Matters
DESCRIPTION:IF YOU ARE 60+ COME JOIN US! \nSt. Mark’s Cathedral Church\n908 Rutherford Street\nShreveport\, LA 71104 \nCall (318)676-7900 to save your seat. \nClasses are held from 9:30 am – 11:30 am. Come to one class or all classes.\nMay 7\, 14\, 16\, & 23\, 2024 \nAs we age\, the risk of falls increases. It is important to learn preventive measures.\nThe workshop provides valuable information:\n1. How to safely increase your activity\n2. How to improve your ability to move\n3. What factors cause a decline in balance\nThe classes are free and taught by Mare Morgan\, PT\, PhD and Suzanne Tinsley\, PT\, PhD
URL:https://caddocoa.org/event/balance-matters-5/
END:VEVENT
BEGIN:VEVENT
DTSTART;TZID=America/Chicago:20240516T093000
DTEND;TZID=America/Chicago:20240516T113000
DTSTAMP:20260419T120606
CREATED:20240420T174104Z
LAST-MODIFIED:20240420T174257Z
UID:1430-1715851800-1715859000@caddocoa.org
SUMMARY:Balance Matter
DESCRIPTION:IF YOU ARE 60+ COME JOIN US! \nSt. Mark’s Cathedral Church\n908 Rutherford Street\nShreveport\, LA 71104 \nCall (318)676-7900 to save your seat. \nClasses are held from 9:30 am – 11:30 am. Come to one class or all classes.\nMay 7\, 14\, 16\, & 23\, 2024 \nAs we age\, the risk of falls increases. It is important to learn preventive measures.\nThe workshop provides valuable information:\n1. How to safely increase your activity\n2. How to improve your ability to move\n3. What factors cause a decline in balance\nThe classes are free and taught by Mare Morgan\, PT\, PhD and Suzanne Tinsley\, PT\, PhD
URL:https://caddocoa.org/event/bb/
END:VEVENT
BEGIN:VEVENT
DTSTART;TZID=America/Chicago:20240514T093000
DTEND;TZID=America/Chicago:20240514T113000
DTSTAMP:20260419T120606
CREATED:20240420T174039Z
LAST-MODIFIED:20240420T174039Z
UID:1428-1715679000-1715686200@caddocoa.org
SUMMARY:Balance Matters
DESCRIPTION:IF YOU ARE 60+ COME JOIN US! \nSt. Mark’s Cathedral Church\n908 Rutherford Street\nShreveport\, LA 71104 \nCall (318)676-7900 to save your seat. \nClasses are held from 9:30 am – 11:30 am. Come to one class or all classes.\nMay 7\, 14\, 16\, & 23\, 2024 \nAs we age\, the risk of falls increases. It is important to learn preventive measures.\nThe workshop provides valuable information:\n1. How to safely increase your activity\n2. How to improve your ability to move\n3. What factors cause a decline in balance\nThe classes are free and taught by Mare Morgan\, PT\, PhD and Suzanne Tinsley\, PT\, PhD
URL:https://caddocoa.org/event/balance-matters-4/
END:VEVENT
BEGIN:VEVENT
DTSTART;TZID=America/Chicago:20240507T093000
DTEND;TZID=America/Chicago:20240507T113000
DTSTAMP:20260419T120606
CREATED:20240420T173933Z
LAST-MODIFIED:20240420T173933Z
UID:1426-1715074200-1715081400@caddocoa.org
SUMMARY:Balance Matter
DESCRIPTION:IF YOU ARE 60+ COME JOIN US! \nSt. Mark’s Cathedral Church\n908 Rutherford Street\nShreveport\, LA 71104 \nCall (318)676-7900 to save your seat. \nClasses are held from 9:30 am – 11:30 am. Come to one class or all classes.\nMay 7\, 14\, 16\, & 23\, 2024 \nAs we age\, the risk of falls increases. It is important to learn preventive measures.\nThe workshop provides valuable information:\n1. How to safely increase your activity\n2. How to improve your ability to move\n3. What factors cause a decline in balance\nThe classes are free and taught by Mare Morgan\, PT\, PhD and Suzanne Tinsley\, PT\, PhD.
URL:https://caddocoa.org/event/balance-matter-2/
END:VEVENT
BEGIN:VEVENT
DTSTART;VALUE=DATE:20240423
DTEND;VALUE=DATE:20240508
DTSTAMP:20260419T120606
CREATED:20240426T131044Z
LAST-MODIFIED:20240426T132651Z
UID:1437-1713830400-1715126399@caddocoa.org
SUMMARY:GIVE FOR GOOD
DESCRIPTION:Please support the Caddo Council on Aging Meals on Wheels program\, one of many deserving nonprofits\, during GIVE FOR GOOD\, which the Community Foundation of Northwest Louisiana sponsors. Caddo Council on Aging delivers meals to homebound individuals aged 60 and older in Caddo Parish. The program provides a hot\, nutritious meal plus assures the safety and well-being of our elderly neighbors. GIVE FOR GOOD DAY is May 7\, 2024\, but you may start donating on April 23\, 2024. CLICK HERE TO DONATE \n 
URL:https://caddocoa.org/event/give-for-good/
END:VEVENT
BEGIN:VEVENT
DTSTART;TZID=America/Chicago:20240411T093000
DTEND;TZID=America/Chicago:20240411T113000
DTSTAMP:20260419T120606
CREATED:20240216T172033Z
LAST-MODIFIED:20240216T172100Z
UID:1401-1712827800-1712835000@caddocoa.org
SUMMARY:CarFit
DESCRIPTION:CarFit is a free\, interactive program that provides a quick yet comprehensive review of how well you and your vehicle work together. Students and Professors from LSU Health Shreveport Occupational Therapy Department will show you how to enhance your comfort\, safety\, and fit within your vehicle\, which improves your driving safety and increases mobility for older drivers. \nSt. Mark’s Cathedral Church\n908 Rutherford Street\nShreveport\, LA 71104 \nThe assessment is free \nCall 318-676-7900 for more information or to register
URL:https://caddocoa.org/event/carfit/
END:VEVENT
BEGIN:VEVENT
DTSTART;TZID=America/Chicago:20240402T093000
DTEND;TZID=America/Chicago:20240402T113000
DTSTAMP:20260419T120606
CREATED:20240216T171603Z
LAST-MODIFIED:20240229T144640Z
UID:1399-1712050200-1712057400@caddocoa.org
SUMMARY:Balance Matters
DESCRIPTION:IF YOU ARE 60+ COME JOIN US! \nSt. Mark’s Cathedral Church\n908 Rutherford Street\nShreveport\, LA 71104 \nCall 318- 676-7900 to save your seat. \nClasses are held from 9:30 am – 11:30 am. Come to one class or all classes.\nMarch 5\, 2024\nMarch 14\, 2024  – Note change of date\nMarch 19\, 2024\nApril 2\, 2024 \nAs we age\, the risk of falls increases. It is important to learn preventive measures.\nThe workshop provides valuable information:\n1. How to safely increase your activity\n2. How to improve your ability to move\n3. What factors cause a decline in balance\nThe classes are free and taught by Mare Morgan\, PT\, PhD and Suzanne Tinsley\, PT\, PhD.
URL:https://caddocoa.org/event/balance-matter/
END:VEVENT
BEGIN:VEVENT
DTSTART;TZID=America/Chicago:20240319T093000
DTEND;TZID=America/Chicago:20240319T113000
DTSTAMP:20260419T120606
CREATED:20240216T171508Z
LAST-MODIFIED:20240229T144724Z
UID:1397-1710840600-1710847800@caddocoa.org
SUMMARY:Balance Matters
DESCRIPTION:IF YOU ARE 60+ COME JOIN US! \nSt. Mark’s Cathedral Church\n908 Rutherford Street\nShreveport\, LA 71104 \nCall 318- 676-7900 to save your seat. \nClasses are held from 9:30 am – 11:30 am. Come to one class or all classes.\nMarch 5\, 2024\nMarch 14\, 2024  – Note change of date\nMarch 19\, 2024\nApril 2\, 2024 \nAs we age\, the risk of falls increases. It is important to learn preventive measures.\nThe workshop provides valuable information:\n1. How to safely increase your activity\n2. How to improve your ability to move\n3. What factors cause a decline in balance\nThe classes are free and taught by Mare Morgan\, PT\, PhD and Suzanne Tinsley\, PT\, PhD.
URL:https://caddocoa.org/event/balance-matters-3/
END:VEVENT
BEGIN:VEVENT
DTSTART;TZID=America/Chicago:20240314T093000
DTEND;TZID=America/Chicago:20240314T113000
DTSTAMP:20260419T120606
CREATED:20240216T171432Z
LAST-MODIFIED:20240229T144553Z
UID:1395-1710408600-1710415800@caddocoa.org
SUMMARY:Balance Matters
DESCRIPTION:IF YOU ARE 60+ COME JOIN US! \nSt. Mark’s Cathedral Church\n908 Rutherford Street\nShreveport\, LA 71104 \nCall 318- 676-7900 to save your seat. \nClasses are held from 9:30 am – 11:30 am. Come to one class or all classes.\nMarch 5\, 2024\nMarch 14\, 2024  Note date change\nMarch 19\, 2024\nApril 2\, 2024 \nAs we age\, the risk of falls increases. It is important to learn preventive measures.\nThe workshop provides valuable information:\n1. How to safely increase your activity\n2. How to improve your ability to move\n3. What factors cause a decline in balance\nThe classes are free and taught by Mare Morgan\, PT\, PhD and Suzanne Tinsley\, PT\, PhD.
URL:https://caddocoa.org/event/balance-matters-2/
END:VEVENT
BEGIN:VEVENT
DTSTART;TZID=America/Chicago:20240305T093000
DTEND;TZID=America/Chicago:20240305T113000
DTSTAMP:20260419T120606
CREATED:20240214T210454Z
LAST-MODIFIED:20240229T144756Z
UID:1386-1709631000-1709638200@caddocoa.org
SUMMARY:Balance Matters
DESCRIPTION:IF YOU ARE 60+ COME JOIN US! \nSt. Mark’s Cathedral Church\n908 Rutherford Street\nShreveport\, LA 71104 \nCall 318- 676-7900 to save your seat. \nClasses are held from 9:30 am – 11:30 am. Come to one class or all classes.\nMarch 5\, 2024\nMarch 14\, 2024 – Note change of date\nMarch 19\, 2024\nApril 2\, 2024 \nAs we age\, the risk of falls increases. It is important to learn preventive measures.\nThe workshop provides valuable information:\n1. How to safely increase your activity\n2. How to improve your ability to move\n3. What factors cause a decline in balance\nThe classes are free and taught by Mare Morgan\, PT\, PhD and Suzanne Tinsley\, PT\, PhD.
URL:https://caddocoa.org/event/balance-matters/
END:VEVENT
BEGIN:VEVENT
DTSTART;TZID=America/Chicago:20240122T120000
DTEND;TZID=America/Chicago:20240122T123000
DTSTAMP:20260419T120606
CREATED:20231212T161735Z
LAST-MODIFIED:20231212T161735Z
UID:1331-1705924800-1705926600@caddocoa.org
SUMMARY:Caddo Council on Aging's Annual Membership Meeting
DESCRIPTION:The public is invited to the annual membership meeting of the Caddo Council on Aging. \nMembers will vote on prospective new Board members for 2024 during the meeting. The slate of new members will be provided at the meeting. If anyone wants to become a member\, please call Monica Wright (318)676-7900 for information before the membership drive ends on January 7\, 2024. All Caddo parish residents aged 18+ are eligible to become a member. \n 
URL:https://caddocoa.org/event/caddo-council-on-agings-annual-membership-meeting/
LOCATION:St. Mark’s Cathedral Church\, 908 Rutherford Street\, Shreveport\, LA\, 71104\, United States
END:VEVENT
END:VCALENDAR