BEGIN:VCALENDAR
VERSION:2.0
PRODID:-//Caddo Council on Aging - ECPv6.15.20//NONSGML v1.0//EN
CALSCALE:GREGORIAN
METHOD:PUBLISH
X-ORIGINAL-URL:https://caddocoa.org
X-WR-CALDESC:Events for Caddo Council on Aging
REFRESH-INTERVAL;VALUE=DURATION:PT1H
X-Robots-Tag:noindex
X-PUBLISHED-TTL:PT1H
BEGIN:VTIMEZONE
TZID:America/Chicago
BEGIN:DAYLIGHT
TZOFFSETFROM:-0600
TZOFFSETTO:-0500
TZNAME:CDT
DTSTART:20230312T080000
END:DAYLIGHT
BEGIN:STANDARD
TZOFFSETFROM:-0500
TZOFFSETTO:-0600
TZNAME:CST
DTSTART:20231105T070000
END:STANDARD
BEGIN:DAYLIGHT
TZOFFSETFROM:-0600
TZOFFSETTO:-0500
TZNAME:CDT
DTSTART:20240310T080000
END:DAYLIGHT
BEGIN:STANDARD
TZOFFSETFROM:-0500
TZOFFSETTO:-0600
TZNAME:CST
DTSTART:20241103T070000
END:STANDARD
BEGIN:DAYLIGHT
TZOFFSETFROM:-0600
TZOFFSETTO:-0500
TZNAME:CDT
DTSTART:20250309T080000
END:DAYLIGHT
BEGIN:STANDARD
TZOFFSETFROM:-0500
TZOFFSETTO:-0600
TZNAME:CST
DTSTART:20251102T070000
END:STANDARD
END:VTIMEZONE
BEGIN:VEVENT
DTSTART;VALUE=DATE:20240423
DTEND;VALUE=DATE:20240508
DTSTAMP:20260422T182724
CREATED:20240426T131044Z
LAST-MODIFIED:20240426T132651Z
UID:1437-1713830400-1715126399@caddocoa.org
SUMMARY:GIVE FOR GOOD
DESCRIPTION:Please support the Caddo Council on Aging Meals on Wheels program\, one of many deserving nonprofits\, during GIVE FOR GOOD\, which the Community Foundation of Northwest Louisiana sponsors. Caddo Council on Aging delivers meals to homebound individuals aged 60 and older in Caddo Parish. The program provides a hot\, nutritious meal plus assures the safety and well-being of our elderly neighbors. GIVE FOR GOOD DAY is May 7\, 2024\, but you may start donating on April 23\, 2024. CLICK HERE TO DONATE \n 
URL:https://caddocoa.org/event/give-for-good/
END:VEVENT
BEGIN:VEVENT
DTSTART;TZID=America/Chicago:20240507T093000
DTEND;TZID=America/Chicago:20240507T113000
DTSTAMP:20260422T182724
CREATED:20240420T173933Z
LAST-MODIFIED:20240420T173933Z
UID:1426-1715074200-1715081400@caddocoa.org
SUMMARY:Balance Matter
DESCRIPTION:IF YOU ARE 60+ COME JOIN US! \nSt. Mark’s Cathedral Church\n908 Rutherford Street\nShreveport\, LA 71104 \nCall (318)676-7900 to save your seat. \nClasses are held from 9:30 am – 11:30 am. Come to one class or all classes.\nMay 7\, 14\, 16\, & 23\, 2024 \nAs we age\, the risk of falls increases. It is important to learn preventive measures.\nThe workshop provides valuable information:\n1. How to safely increase your activity\n2. How to improve your ability to move\n3. What factors cause a decline in balance\nThe classes are free and taught by Mare Morgan\, PT\, PhD and Suzanne Tinsley\, PT\, PhD.
URL:https://caddocoa.org/event/balance-matter-2/
END:VEVENT
BEGIN:VEVENT
DTSTART;TZID=America/Chicago:20240514T093000
DTEND;TZID=America/Chicago:20240514T113000
DTSTAMP:20260422T182724
CREATED:20240420T174039Z
LAST-MODIFIED:20240420T174039Z
UID:1428-1715679000-1715686200@caddocoa.org
SUMMARY:Balance Matters
DESCRIPTION:IF YOU ARE 60+ COME JOIN US! \nSt. Mark’s Cathedral Church\n908 Rutherford Street\nShreveport\, LA 71104 \nCall (318)676-7900 to save your seat. \nClasses are held from 9:30 am – 11:30 am. Come to one class or all classes.\nMay 7\, 14\, 16\, & 23\, 2024 \nAs we age\, the risk of falls increases. It is important to learn preventive measures.\nThe workshop provides valuable information:\n1. How to safely increase your activity\n2. How to improve your ability to move\n3. What factors cause a decline in balance\nThe classes are free and taught by Mare Morgan\, PT\, PhD and Suzanne Tinsley\, PT\, PhD
URL:https://caddocoa.org/event/balance-matters-4/
END:VEVENT
BEGIN:VEVENT
DTSTART;TZID=America/Chicago:20240516T093000
DTEND;TZID=America/Chicago:20240516T113000
DTSTAMP:20260422T182724
CREATED:20240420T174104Z
LAST-MODIFIED:20240420T174257Z
UID:1430-1715851800-1715859000@caddocoa.org
SUMMARY:Balance Matter
DESCRIPTION:IF YOU ARE 60+ COME JOIN US! \nSt. Mark’s Cathedral Church\n908 Rutherford Street\nShreveport\, LA 71104 \nCall (318)676-7900 to save your seat. \nClasses are held from 9:30 am – 11:30 am. Come to one class or all classes.\nMay 7\, 14\, 16\, & 23\, 2024 \nAs we age\, the risk of falls increases. It is important to learn preventive measures.\nThe workshop provides valuable information:\n1. How to safely increase your activity\n2. How to improve your ability to move\n3. What factors cause a decline in balance\nThe classes are free and taught by Mare Morgan\, PT\, PhD and Suzanne Tinsley\, PT\, PhD
URL:https://caddocoa.org/event/bb/
END:VEVENT
BEGIN:VEVENT
DTSTART;TZID=America/Chicago:20240523T093000
DTEND;TZID=America/Chicago:20240523T113000
DTSTAMP:20260422T182724
CREATED:20240420T174410Z
LAST-MODIFIED:20240420T174410Z
UID:1434-1716456600-1716463800@caddocoa.org
SUMMARY:Balance Matters
DESCRIPTION:IF YOU ARE 60+ COME JOIN US! \nSt. Mark’s Cathedral Church\n908 Rutherford Street\nShreveport\, LA 71104 \nCall (318)676-7900 to save your seat. \nClasses are held from 9:30 am – 11:30 am. Come to one class or all classes.\nMay 7\, 14\, 16\, & 23\, 2024 \nAs we age\, the risk of falls increases. It is important to learn preventive measures.\nThe workshop provides valuable information:\n1. How to safely increase your activity\n2. How to improve your ability to move\n3. What factors cause a decline in balance\nThe classes are free and taught by Mare Morgan\, PT\, PhD and Suzanne Tinsley\, PT\, PhD
URL:https://caddocoa.org/event/balance-matters-5/
END:VEVENT
END:VCALENDAR