BEGIN:VCALENDAR
VERSION:2.0
PRODID:-//Caddo Council on Aging - ECPv6.15.20//NONSGML v1.0//EN
CALSCALE:GREGORIAN
METHOD:PUBLISH
X-WR-CALNAME:Caddo Council on Aging
X-ORIGINAL-URL:https://caddocoa.org
X-WR-CALDESC:Events for Caddo Council on Aging
REFRESH-INTERVAL;VALUE=DURATION:PT1H
X-Robots-Tag:noindex
X-PUBLISHED-TTL:PT1H
BEGIN:VTIMEZONE
TZID:America/Chicago
BEGIN:DAYLIGHT
TZOFFSETFROM:-0600
TZOFFSETTO:-0500
TZNAME:CDT
DTSTART:20250309T080000
END:DAYLIGHT
BEGIN:STANDARD
TZOFFSETFROM:-0500
TZOFFSETTO:-0600
TZNAME:CST
DTSTART:20251102T070000
END:STANDARD
BEGIN:DAYLIGHT
TZOFFSETFROM:-0600
TZOFFSETTO:-0500
TZNAME:CDT
DTSTART:20260308T080000
END:DAYLIGHT
BEGIN:STANDARD
TZOFFSETFROM:-0500
TZOFFSETTO:-0600
TZNAME:CST
DTSTART:20261101T070000
END:STANDARD
BEGIN:DAYLIGHT
TZOFFSETFROM:-0600
TZOFFSETTO:-0500
TZNAME:CDT
DTSTART:20270314T080000
END:DAYLIGHT
BEGIN:STANDARD
TZOFFSETFROM:-0500
TZOFFSETTO:-0600
TZNAME:CST
DTSTART:20271107T070000
END:STANDARD
END:VTIMEZONE
BEGIN:VEVENT
DTSTART;TZID=America/Chicago:20260126T120000
DTEND;TZID=America/Chicago:20260126T130000
DTSTAMP:20260421T073410
CREATED:20250116T224408Z
LAST-MODIFIED:20250909T142934Z
UID:1504-1769428800-1769432400@caddocoa.org
SUMMARY:Caddo Council on Aging Annual Meeting
DESCRIPTION:The public is invited to the Caddo Council on Aging\nAnnual Meeting\nMonday\, January 26\, 2026\n12:00 pm\nat\nSt. Mark’s Cathedral Church\nRoom 110\n908 Rutherford Street\nShreveport\, LA 71104
URL:https://caddocoa.org/event/caddo-council-on-aging-annual-meeting/
END:VEVENT
END:VCALENDAR